BEGIN:VCALENDAR
VERSION:2.0
PRODID:-//Busylizzy - ECPv6.15.20//NONSGML v1.0//EN
CALSCALE:GREGORIAN
METHOD:PUBLISH
X-WR-CALNAME:Busylizzy
X-ORIGINAL-URL:https://busylizzy.co.uk
X-WR-CALDESC:Events for Busylizzy
REFRESH-INTERVAL;VALUE=DURATION:PT1H
X-Robots-Tag:noindex
X-PUBLISHED-TTL:PT1H
BEGIN:VTIMEZONE
TZID:Europe/London
BEGIN:DAYLIGHT
TZOFFSETFROM:+0000
TZOFFSETTO:+0100
TZNAME:BST
DTSTART:20250330T010000
END:DAYLIGHT
BEGIN:STANDARD
TZOFFSETFROM:+0100
TZOFFSETTO:+0000
TZNAME:GMT
DTSTART:20251026T010000
END:STANDARD
BEGIN:DAYLIGHT
TZOFFSETFROM:+0000
TZOFFSETTO:+0100
TZNAME:BST
DTSTART:20260329T010000
END:DAYLIGHT
BEGIN:STANDARD
TZOFFSETFROM:+0100
TZOFFSETTO:+0000
TZNAME:GMT
DTSTART:20261025T010000
END:STANDARD
BEGIN:DAYLIGHT
TZOFFSETFROM:+0000
TZOFFSETTO:+0100
TZNAME:BST
DTSTART:20270328T010000
END:DAYLIGHT
BEGIN:STANDARD
TZOFFSETFROM:+0100
TZOFFSETTO:+0000
TZNAME:GMT
DTSTART:20271031T010000
END:STANDARD
END:VTIMEZONE
BEGIN:VEVENT
DTSTART;TZID=Europe/London:20260425T100000
DTEND;TZID=Europe/London:20260425T120000
DTSTAMP:20260425T112716
CREATED:20260309T172759Z
LAST-MODIFIED:20260309T172759Z
UID:46301-1777111200-1777118400@busylizzy.co.uk
SUMMARY:Clapham Family Photoshoot
DESCRIPTION:Clapham Family Photoshoot\nSaturday 25th April\n15 min Slots available 10am – midday\nLocation: outdoors on Wandsworth Common (indoors if weather prevents an outdoor shoot)\n(Let us know in the comments section if you have a time preference) \nIn collaboration with the wonderful Tania Ahearne we are offering a fabulous photoshoot to take some gorgeous festive photos of you and your little one! What better gift for your loved ones than forever photos of your amazing family? \n\n\nYou will have a 15 minute private session with Tania where she will capture as many photos as she can of you and your family. \n\n\nYou’re welcome to dress up for the occasion or just come as you are! \n\nOpen to everyone – £35 for members and £40 for non-members.\nGET TICKET
URL:https://busylizzy.co.uk/event/clapham-family-photoshoot-2/
LOCATION:Wandsworth Common\, SW18 3RT
CATEGORIES:Clapham Event,Mum Social
ATTACH;FMTTYPE=image/jpeg:https://busylizzy.co.uk/wp-content/uploads/2024/03/spring-photoshoot.jpg
ORGANIZER;CN="Anna Harriman":MAILTO:anna.harriman@busylizzy.co.uk
END:VEVENT
END:VCALENDAR